BEGIN:VCALENDAR
VERSION:2.0
PRODID:icalendar-ruby
CALSCALE:GREGORIAN
METHOD:PUBLISH
BEGIN:VEVENT
DTSTAMP:20260419T170951Z
UID:17-295453@nyhol.com
DTSTART:20260515T230000Z
DTEND:20260516T010000Z
CLASS:PUBLIC
CREATED:20260418T202316
DESCRIPTION:第一/第三週週五晚上 7點至9點\nJackie姐妹家\n詳
 細地址/信息請聯絡小組負責人
LAST-MODIFIED:20260418T202316
LOCATION:Jackie's House (1st/3rd Fridays)
SUMMARY:職場豐盛小組
URL;VALUE=URI:https://www.nyhol.com/events/17/2026-05-15
ATTACH;FILENAME=career-fellowship.png;FMTTYPE=image/png:https://dq5pwpg1q8r
 u0.cloudfront.net/2025/10/21/04/00/59/0e2fc451-b1bf-44cc-b169-6ee8a963fac8
 /career-fellowship.png
END:VEVENT
END:VCALENDAR
