BEGIN:VCALENDAR
VERSION:2.0
PRODID:icalendar-ruby
CALSCALE:GREGORIAN
METHOD:PUBLISH
BEGIN:VEVENT
DTSTAMP:20260423T015210Z
UID:20-299456@nyhol.com
DTSTART:20260921T140000Z
DTEND:20260921T160000Z
CLASS:PUBLIC
CREATED:20260422T202531
DESCRIPTION:伯特利教會週一崇拜｜歡迎週日不方便參加聚會
 的家人朋友，一同線上聚會，敬拜讚美、聆聽神的話，
 在神的同在中得著平安與力量。每月最後一個禮拜將於
 角聲使命中心 Manna Hall（156-03 Horace Harding Expwy\, Flushing\, N
 Y 11367）實體聚會，誠摯邀請您一同參加！\n若有興趣請
 聯絡：嘉豪傳道 347-283-8735
LAST-MODIFIED:20260422T202531
LOCATION:Zoom & 角聲使命中心 Manna Hall（156-03 Horace Harding Expwy
 \, Flushing\, NY 11367）
SUMMARY:中文堂週一崇拜
URL;VALUE=URI:https://www.nyhol.com/events/20/2026-09-21
END:VEVENT
END:VCALENDAR
