BEGIN:VCALENDAR
VERSION:2.0
PRODID:icalendar-ruby
CALSCALE:GREGORIAN
METHOD:PUBLISH
BEGIN:VEVENT
DTSTAMP:20260423T110742Z
UID:7-299519@nyhol.com
DTSTART:20261101T150000Z
DTEND:20261101T170000Z
CLASS:PUBLIC
CREATED:20260422T232003
DESCRIPTION:中文堂主日崇拜\n角聲使命中心大堂 Main Sanctuary\
 n156-03 Horace Harding Expwy\, Flushing\, NY 11367\nJoin livestream every 
 Sunday online: https://www.youtube.com/@revivalhol9566/streams
LAST-MODIFIED:20260422T232003
LOCATION:156-03 Horace Harding Expwy\, Flushing\, NY 11367
SUMMARY:中文堂主日崇拜
URL;VALUE=URI:https://www.nyhol.com/events/5/2026-11-01
ATTACH;FILENAME=%E4%BC%AF%E7%89%B9%E5%88%A9%E4%B8%BB%E6%97%A5%E8%81%9A%E6%9
 C%83.jpeg;FMTTYPE=image/jpeg:https://dq5pwpg1q8ru0.cloudfront.net/2025/10/
 21/03/54/01/97369d22-f21c-405d-b167-8f2fdedf2ca4/%25E4%25BC%25AF%25E7%2589
 %25B9%25E5%2588%25A9%25E4%25B8%25BB%25E6%2597%25A5%25E8%2581%259A%25E6%259
 C%2583.jpeg
END:VEVENT
END:VCALENDAR
