BEGIN:VCALENDAR
VERSION:2.0
PRODID:icalendar-ruby
CALSCALE:GREGORIAN
METHOD:PUBLISH
BEGIN:VEVENT
DTSTAMP:20260419T150209Z
UID:12-295653@nyhol.com
DTSTART:20260417T230000Z
DTEND:20260418T010000Z
CLASS:PUBLIC
CREATED:20260418T205558
DESCRIPTION:Contact Apple/ Renee for details
LAST-MODIFIED:20260418T205558
LOCATION:Online
SUMMARY:Blueprint Junior
URL;VALUE=URI:https://www.nyhol.com/events/blueprint-junior/2026-04-17
ATTACH;FILENAME=BP-Junior.png;FMTTYPE=image/png:https://dq5pwpg1q8ru0.cloud
 front.net/2026/01/23/21/52/51/948e0f71-bd9f-4764-a49c-bc16544081ac/BP-Juni
 or.png
END:VEVENT
END:VCALENDAR
