BEGIN:VCALENDAR
VERSION:2.0
PRODID:icalendar-ruby
CALSCALE:GREGORIAN
METHOD:PUBLISH
BEGIN:VEVENT
DTSTAMP:20260419T132548Z
UID:10-295465@nyhol.com
DTSTART:20260424T230000Z
DTEND:20260425T010000Z
CLASS:PUBLIC
CREATED:20260418T203303
DESCRIPTION:Contact Paster David (516-301-0154) for the address.
LAST-MODIFIED:20260418T203303
LOCATION:
SUMMARY:Blueprint Men's Group
URL;VALUE=URI:https://www.nyhol.com/events/blueprint-mens-group/2026-04-24
END:VEVENT
END:VCALENDAR
