BEGIN:VCALENDAR
VERSION:2.0
PRODID:icalendar-ruby
CALSCALE:GREGORIAN
METHOD:PUBLISH
BEGIN:VEVENT
DTSTAMP:20260419T150853Z
UID:26-295484@nyhol.com
DTSTART:20260426T163000Z
DTEND:20260426T173000Z
CLASS:PUBLIC
CREATED:20260418T204640
DESCRIPTION:4/12\, 12:30 PM: The Baptism of the Holy Spirit\n4/26\, 12:30 P
 M: Tongues and Prophecy\n5/3\, 12:30 PM: Circle Exercise\n5/24\, 12:30 PM:
  Healing and Miracles
LAST-MODIFIED:20260418T204640
LOCATION:Room 101
SUMMARY:Christian Worldview Classes
URL;VALUE=URI:https://www.nyhol.com/events/christian-worldview-classes--26/
 2026-04-26
ATTACH;FILENAME=spiritual-gifts.jpg;FMTTYPE=image/jpeg:https://dq5pwpg1q8ru
 0.cloudfront.net/2026/04/19/00/46/40/c91fed22-e523-4508-bb91-5c9cd7b5f982/
 spiritual-gifts.jpg
END:VEVENT
END:VCALENDAR
